BEGIN:VCALENDAR
VERSION:2.0
PRODID:-//horsealert.local//NONSGML kigkonsult.se iCalcreator 2.10.5//
CALSCALE:GREGORIAN
X-WR-TIMEZONE:Europe/Dublin
BEGIN:VTIMEZONE
TZID:Etc/GMT-1
BEGIN:STANDARD
DTSTART:20010101T000000
TZOFFSETFROM:+0100
TZOFFSETTO:+0100
TZNAME:GMT +01:00
END:STANDARD
END:VTIMEZONE
BEGIN:VEVENT
UID:20260421T171319CEST-2261HTs0Il@horsealert.local
DTSTAMP:20260421T150419Z
CATEGORIES:Horse Alerts
DESCRIPTION:totepool Supports Responsible Gambling Week Novices' Chase
DTSTART:20171015T141500
LOCATION:Wales
SUMMARY:Horse Racing:totepool Supports Responsible Gambling Week Novices' C
 hase
END:VEVENT
END:VCALENDAR
