BEGIN:VCALENDAR
VERSION:2.0
PRODID:-//horsealert.local//NONSGML kigkonsult.se iCalcreator 2.10.5//
CALSCALE:GREGORIAN
X-WR-TIMEZONE:Europe/Dublin
BEGIN:VTIMEZONE
TZID:Etc/GMT-1
BEGIN:STANDARD
DTSTART:20010101T000000
TZOFFSETFROM:+0100
TZOFFSETTO:+0100
TZNAME:GMT +01:00
END:STANDARD
END:VTIMEZONE
BEGIN:VEVENT
UID:20260421T171305CEST-9027D9utTo@horsealert.local
DTSTAMP:20260421T150405Z
CATEGORIES:Horse Alerts
DESCRIPTION:intu Metrocentre Always A Safe Bet Intermediate NH Flat Race (C
 onditionals And Amateurs)
DTSTART:20171014T174000
LOCATION:England
SUMMARY:Horse Racing:intu Metrocentre Always A Safe Bet Intermediate NH Fla
 t Race (Conditionals And Amateurs)
END:VEVENT
END:VCALENDAR
