BEGIN:VCALENDAR
VERSION:2.0
PRODID:-//horsealert.local//NONSGML kigkonsult.se iCalcreator 2.10.5//
CALSCALE:GREGORIAN
X-WR-TIMEZONE:Europe/Dublin
BEGIN:VTIMEZONE
TZID:Etc/GMT-1
BEGIN:STANDARD
DTSTART:20010101T000000
TZOFFSETFROM:+0100
TZOFFSETTO:+0100
TZNAME:GMT +01:00
END:STANDARD
END:VTIMEZONE
BEGIN:VEVENT
UID:20260421T171157CEST-4972ald1UU@horsealert.local
DTSTAMP:20260421T150457Z
CATEGORIES:Horse Alerts
DESCRIPTION:intu Metrocentre A Great Day In Handicap Chase
DTSTART:20171014T160000
LOCATION:England
SUMMARY:Horse Racing:intu Metrocentre A Great Day In Handicap Chase
END:VEVENT
END:VCALENDAR
