BEGIN:VCALENDAR
VERSION:2.0
PRODID:-//horsealert.local//NONSGML kigkonsult.se iCalcreator 2.10.5//
CALSCALE:GREGORIAN
X-WR-TIMEZONE:Europe/Dublin
BEGIN:VTIMEZONE
TZID:Etc/GMT-1
BEGIN:STANDARD
DTSTART:20010101T000000
TZOFFSETFROM:+0100
TZOFFSETTO:+0100
TZNAME:GMT +01:00
END:STANDARD
END:VTIMEZONE
BEGIN:VEVENT
UID:20260421T171305CEST-2698dh2UiU@horsealert.local
DTSTAMP:20260421T150405Z
CATEGORIES:Horse Alerts
DESCRIPTION:Brian Tennant Completes All 60 Racecourses Today Handicap Chase
DTSTART:20171011T161000
LOCATION:England
SUMMARY:Horse Racing:Brian Tennant Completes All 60 Racecourses Today Handi
 cap Chase
END:VEVENT
END:VCALENDAR
