BEGIN:VCALENDAR
VERSION:2.0
PRODID:-//horsealert.local//NONSGML kigkonsult.se iCalcreator 2.10.5//
CALSCALE:GREGORIAN
X-WR-TIMEZONE:Europe/Dublin
BEGIN:VTIMEZONE
TZID:Etc/GMT-1
BEGIN:STANDARD
DTSTART:20010101T000000
TZOFFSETFROM:+0100
TZOFFSETTO:+0100
TZNAME:GMT +01:00
END:STANDARD
END:VTIMEZONE
BEGIN:VEVENT
UID:20260421T171129CEST-9682mnUv8r@horsealert.local
DTSTAMP:20260421T150429Z
CATEGORIES:Horse Alerts
DESCRIPTION:Welsh Border Area Point-To-Point Awards 2017 Mares' Handicap Hu
 rdle
DTSTART:20171011T142500
LOCATION:England
SUMMARY:Horse Racing:Welsh Border Area Point-To-Point Awards 2017 Mares' Ha
 ndicap Hurdle
END:VEVENT
END:VCALENDAR
