BEGIN:VCALENDAR
VERSION:2.0
PRODID:-//horsealert.local//NONSGML kigkonsult.se iCalcreator 2.10.5//
CALSCALE:GREGORIAN
X-WR-TIMEZONE:Europe/Dublin
BEGIN:VTIMEZONE
TZID:Etc/GMT-1
BEGIN:STANDARD
DTSTART:20010101T000000
TZOFFSETFROM:+0100
TZOFFSETTO:+0100
TZNAME:GMT +01:00
END:STANDARD
END:VTIMEZONE
BEGIN:VEVENT
UID:20260421T171022CEST-9391xx7Jov@horsealert.local
DTSTAMP:20260421T150422Z
CATEGORIES:Horse Alerts
DESCRIPTION:Watch Racing UK On The Go Fillies' Novice Auction Stakes
DTSTART:20171009T165500
LOCATION:England
SUMMARY:Horse Racing:Watch Racing UK On The Go Fillies' Novice Auction Stak
 es
END:VEVENT
END:VCALENDAR
