BEGIN:VCALENDAR
VERSION:2.0
PRODID:-//horsealert.local//NONSGML kigkonsult.se iCalcreator 2.10.5//
CALSCALE:GREGORIAN
X-WR-TIMEZONE:Europe/Dublin
BEGIN:VTIMEZONE
TZID:Etc/GMT-1
BEGIN:STANDARD
DTSTART:20010101T000000
TZOFFSETFROM:+0100
TZOFFSETTO:+0100
TZNAME:GMT +01:00
END:STANDARD
END:VTIMEZONE
BEGIN:VEVENT
UID:20260421T171120CEST-3313aA9kVG@horsealert.local
DTSTAMP:20260421T150420Z
CATEGORIES:Horse Alerts
DESCRIPTION:Special Offers At www.fairyhouse.ie Handicap Hurdle (80-95) (Di
 v 2)
DTSTART:20171007T163500
LOCATION:Eire
SUMMARY:Horse Racing:Special Offers At www.fairyhouse.ie Handicap Hurdle (8
 0-95) (Div 2)
END:VEVENT
END:VCALENDAR
