BEGIN:VCALENDAR
VERSION:2.0
PRODID:-//horsealert.local//NONSGML kigkonsult.se iCalcreator 2.10.5//
CALSCALE:GREGORIAN
X-WR-TIMEZONE:Europe/Dublin
BEGIN:VTIMEZONE
TZID:Etc/GMT-1
BEGIN:STANDARD
DTSTART:20010101T000000
TZOFFSETFROM:+0100
TZOFFSETTO:+0100
TZNAME:GMT +01:00
END:STANDARD
END:VTIMEZONE
BEGIN:VEVENT
UID:20260421T171451CEST-75327SCV5p@horsealert.local
DTSTAMP:20260421T150451Z
CATEGORIES:Horse Alerts
DESCRIPTION:Graun Hill Suite - Perfect For Parties Beginners Chase
DTSTART:20171005T165000
LOCATION:Eire
SUMMARY:Horse Racing:Graun Hill Suite - Perfect For Parties Beginners Chase
END:VEVENT
END:VCALENDAR
