BEGIN:VCALENDAR
VERSION:2.0
PRODID:-//horsealert.local//NONSGML kigkonsult.se iCalcreator 2.10.5//
CALSCALE:GREGORIAN
X-WR-TIMEZONE:Europe/Dublin
BEGIN:VTIMEZONE
TZID:Etc/GMT-1
BEGIN:STANDARD
DTSTART:20010101T000000
TZOFFSETFROM:+0100
TZOFFSETTO:+0100
TZNAME:GMT +01:00
END:STANDARD
END:VTIMEZONE
BEGIN:VEVENT
UID:20260421T171308CEST-3882w8SJuT@horsealert.local
DTSTAMP:20260421T150408Z
CATEGORIES:Horse Alerts
DESCRIPTION:Sedgefield's Biggest Boxing Day Fixture Yet Standard Open NH Fl
 at Race
DTSTART:20171003T171000
LOCATION:England
SUMMARY:Horse Racing:Sedgefield's Biggest Boxing Day Fixture Yet Standard O
 pen NH Flat Race
END:VEVENT
END:VCALENDAR
