BEGIN:VCALENDAR
VERSION:2.0
PRODID:-//horsealert.local//NONSGML kigkonsult.se iCalcreator 2.10.5//
CALSCALE:GREGORIAN
X-WR-TIMEZONE:Europe/Dublin
BEGIN:VTIMEZONE
TZID:Etc/GMT-1
BEGIN:STANDARD
DTSTART:20010101T000000
TZOFFSETFROM:+0100
TZOFFSETTO:+0100
TZNAME:GMT +01:00
END:STANDARD
END:VTIMEZONE
BEGIN:VEVENT
UID:20260421T170839CEST-4749w3pPuK@horsealert.local
DTSTAMP:20260421T150439Z
CATEGORIES:Horse Alerts
DESCRIPTION:Join The Tipperary Supporter's Club 2018 (C & G) Maiden Hurdle
DTSTART:20171003T144500
LOCATION:Eire
SUMMARY:Horse Racing:Join The Tipperary Supporter's Club 2018 (C & G) Maide
 n Hurdle
END:VEVENT
END:VCALENDAR
