BEGIN:VCALENDAR
VERSION:2.0
PRODID:-//horsealert.local//NONSGML kigkonsult.se iCalcreator 2.10.5//
CALSCALE:GREGORIAN
X-WR-TIMEZONE:Europe/Dublin
BEGIN:VTIMEZONE
TZID:Etc/GMT-1
BEGIN:STANDARD
DTSTART:20010101T000000
TZOFFSETFROM:+0100
TZOFFSETTO:+0100
TZNAME:GMT +01:00
END:STANDARD
END:VTIMEZONE
BEGIN:VEVENT
UID:20260421T171007CEST-76679KmtHK@horsealert.local
DTSTAMP:20260421T150407Z
CATEGORIES:Horse Alerts
DESCRIPTION:Bar One Racing Double The Odds Goalscorer Special Handicap (Div
  1)
DTSTART:20171003T182500
LOCATION:Eire
SUMMARY:Horse Racing:Bar One Racing Double The Odds Goalscorer Special Hand
 icap (Div 1)
END:VEVENT
END:VCALENDAR
