BEGIN:VCALENDAR
VERSION:2.0
PRODID:-//horsealert.local//NONSGML kigkonsult.se iCalcreator 2.10.5//
CALSCALE:GREGORIAN
X-WR-TIMEZONE:Europe/Dublin
BEGIN:VTIMEZONE
TZID:Etc/GMT-1
BEGIN:STANDARD
DTSTART:20010101T000000
TZOFFSETFROM:+0100
TZOFFSETTO:+0100
TZNAME:GMT +01:00
END:STANDARD
END:VTIMEZONE
BEGIN:VEVENT
UID:20260421T173028CEST-1568NCS1ox@horsealert.local
DTSTAMP:20260421T150428Z
CATEGORIES:Horse Alerts
DESCRIPTION:Save The Children Irish Stallion Farms EBF Novice Stakes (Plus 
 10)
DTSTART:20171001T140000
LOCATION:Scotland
SUMMARY:Horse Racing:Save The Children Irish Stallion Farms EBF Novice Stak
 es (Plus 10)
END:VEVENT
END:VCALENDAR
