BEGIN:VCALENDAR
VERSION:2.0
PRODID:-//horsealert.local//NONSGML kigkonsult.se iCalcreator 2.10.5//
CALSCALE:GREGORIAN
X-WR-TIMEZONE:Europe/Dublin
BEGIN:VTIMEZONE
TZID:Etc/GMT-1
BEGIN:STANDARD
DTSTART:20010101T000000
TZOFFSETFROM:+0100
TZOFFSETTO:+0100
TZNAME:GMT +01:00
END:STANDARD
END:VTIMEZONE
BEGIN:VEVENT
UID:20260421T184039CEST-4794LfOts1@horsealert.local
DTSTAMP:20260421T160439Z
CATEGORIES:Horse Alerts
DESCRIPTION:sportingbet.com Nursery
DTSTART:20170930T161500
LOCATION:England
SUMMARY:Horse Racing:sportingbet.com Nursery
END:VEVENT
END:VCALENDAR
