BEGIN:VCALENDAR
VERSION:2.0
PRODID:-//horsealert.local//NONSGML kigkonsult.se iCalcreator 2.10.5//
CALSCALE:GREGORIAN
X-WR-TIMEZONE:Europe/Dublin
BEGIN:VTIMEZONE
TZID:Etc/GMT-1
BEGIN:STANDARD
DTSTART:20010101T000000
TZOFFSETFROM:+0100
TZOFFSETTO:+0100
TZNAME:GMT +01:00
END:STANDARD
END:VTIMEZONE
BEGIN:VEVENT
UID:20260421T184037CEST-2000O0eEm2@horsealert.local
DTSTAMP:20260421T160437Z
CATEGORIES:Horse Alerts
DESCRIPTION:Buy Tickets Online Handicap Hurdle (80-102)
DTSTART:20170929T171000
LOCATION:Eire
SUMMARY:Horse Racing:Buy Tickets Online Handicap Hurdle (80-102)
END:VEVENT
END:VCALENDAR
