BEGIN:VCALENDAR
VERSION:2.0
PRODID:-//horsealert.local//NONSGML kigkonsult.se iCalcreator 2.10.5//
CALSCALE:GREGORIAN
X-WR-TIMEZONE:Europe/Dublin
BEGIN:VTIMEZONE
TZID:Etc/GMT-1
BEGIN:STANDARD
DTSTART:20010101T000000
TZOFFSETFROM:+0100
TZOFFSETTO:+0100
TZNAME:GMT +01:00
END:STANDARD
END:VTIMEZONE
BEGIN:VEVENT
UID:20260421T184006CEST-90625lv5FA@horsealert.local
DTSTAMP:20260421T160406Z
CATEGORIES:Horse Alerts
DESCRIPTION:'Get 1/4 Odds At 188Bet' Future Stayers' Maiden Stakes (Plus 10
 )
DTSTART:20170927T141000
LOCATION:England
SUMMARY:Horse Racing:'Get 1/4 Odds At 188Bet' Future Stayers' Maiden Stakes
  (Plus 10)
END:VEVENT
END:VCALENDAR
