BEGIN:VCALENDAR
VERSION:2.0
PRODID:-//horsealert.local//NONSGML kigkonsult.se iCalcreator 2.10.5//
CALSCALE:GREGORIAN
X-WR-TIMEZONE:Europe/Dublin
BEGIN:VTIMEZONE
TZID:Etc/GMT-1
BEGIN:STANDARD
DTSTART:20010101T000000
TZOFFSETFROM:+0100
TZOFFSETTO:+0100
TZNAME:GMT +01:00
END:STANDARD
END:VTIMEZONE
BEGIN:VEVENT
UID:20260421T183910CEST-7903etFa9r@horsealert.local
DTSTAMP:20260421T160410Z
CATEGORIES:Horse Alerts
DESCRIPTION:De Chambly Listed Hurdle
DTSTART:20170923T151500
LOCATION:France
SUMMARY:Horse Racing:De Chambly Listed Hurdle
END:VEVENT
END:VCALENDAR
