BEGIN:VCALENDAR
VERSION:2.0
PRODID:-//horsealert.local//NONSGML kigkonsult.se iCalcreator 2.10.5//
CALSCALE:GREGORIAN
X-WR-TIMEZONE:Europe/Dublin
BEGIN:VTIMEZONE
TZID:Etc/GMT-1
BEGIN:STANDARD
DTSTART:20010101T000000
TZOFFSETFROM:+0100
TZOFFSETTO:+0100
TZNAME:GMT +01:00
END:STANDARD
END:VTIMEZONE
BEGIN:VEVENT
UID:20260421T184046CEST-0976L0OwME@horsealert.local
DTSTAMP:20260421T160446Z
CATEGORIES:Horse Alerts
DESCRIPTION:Steve Sanders Newton Spurs Legend Memorial Handicap Hurdle
DTSTART:20170922T154000
LOCATION:England
SUMMARY:Horse Racing:Steve Sanders Newton Spurs Legend Memorial Handicap Hu
 rdle
END:VEVENT
END:VCALENDAR
