BEGIN:VCALENDAR
VERSION:2.0
PRODID:-//horsealert.local//NONSGML kigkonsult.se iCalcreator 2.10.5//
CALSCALE:GREGORIAN
X-WR-TIMEZONE:Europe/Dublin
BEGIN:VTIMEZONE
TZID:Etc/GMT-1
BEGIN:STANDARD
DTSTART:20010101T000000
TZOFFSETFROM:+0100
TZOFFSETTO:+0100
TZNAME:GMT +01:00
END:STANDARD
END:VTIMEZONE
BEGIN:VEVENT
UID:20260421T184037CEST-3268gtvEj9@horsealert.local
DTSTAMP:20260421T160437Z
CATEGORIES:Horse Alerts
DESCRIPTION:Tradeway Shipping - Suzy Woods Can't Pick A Winner Handicap
DTSTART:20170921T163000
LOCATION:England
SUMMARY:Horse Racing:Tradeway Shipping - Suzy Woods Can't Pick A Winner Han
 dicap
END:VEVENT
END:VCALENDAR
