BEGIN:VCALENDAR
VERSION:2.0
PRODID:-//horsealert.local//NONSGML kigkonsult.se iCalcreator 2.10.5//
CALSCALE:GREGORIAN
X-WR-TIMEZONE:Europe/Dublin
BEGIN:VTIMEZONE
TZID:Etc/GMT-1
BEGIN:STANDARD
DTSTART:20010101T000000
TZOFFSETFROM:+0100
TZOFFSETTO:+0100
TZNAME:GMT +01:00
END:STANDARD
END:VTIMEZONE
BEGIN:VEVENT
UID:20260421T184052CEST-2557LwXz8F@horsealert.local
DTSTAMP:20260421T160452Z
CATEGORIES:Horse Alerts
DESCRIPTION:Book Your Winter Festival Tickets Online At fairyhouse.ie Claim
 ing Race
DTSTART:20170920T174000
LOCATION:Eire
SUMMARY:Horse Racing:Book Your Winter Festival Tickets Online At fairyhouse
 .ie Claiming Race
END:VEVENT
END:VCALENDAR
