BEGIN:VCALENDAR
VERSION:2.0
PRODID:-//horsealert.local//NONSGML kigkonsult.se iCalcreator 2.10.5//
CALSCALE:GREGORIAN
X-WR-TIMEZONE:Europe/Dublin
BEGIN:VTIMEZONE
TZID:Etc/GMT-1
BEGIN:STANDARD
DTSTART:20010101T000000
TZOFFSETFROM:+0100
TZOFFSETTO:+0100
TZNAME:GMT +01:00
END:STANDARD
END:VTIMEZONE
BEGIN:VEVENT
UID:20260421T184506CEST-45342wwgIz@horsealert.local
DTSTAMP:20260421T160406Z
CATEGORIES:Horse Alerts
DESCRIPTION:Herefordshire & Worcestershire Chamber Of Commerce Intermediate
  Open NH Flat Race
DTSTART:20170918T160500
LOCATION:England
SUMMARY:Horse Racing:Herefordshire & Worcestershire Chamber Of Commerce Int
 ermediate Open NH Flat Race
END:VEVENT
END:VCALENDAR
