BEGIN:VCALENDAR
VERSION:2.0
PRODID:-//horsealert.local//NONSGML kigkonsult.se iCalcreator 2.10.5//
CALSCALE:GREGORIAN
X-WR-TIMEZONE:Europe/Dublin
BEGIN:VTIMEZONE
TZID:Etc/GMT-1
BEGIN:STANDARD
DTSTART:20010101T000000
TZOFFSETFROM:+0100
TZOFFSETTO:+0100
TZNAME:GMT +01:00
END:STANDARD
END:VTIMEZONE
BEGIN:VEVENT
UID:20260421T184609CEST-0224oVI7lV@horsealert.local
DTSTAMP:20260421T160409Z
CATEGORIES:Horse Alerts
DESCRIPTION:Doncaster - Arab Race - President Of The UAE Cup (UK Arabian De
 rby) (Group 1 PA)
DTSTART:20170916T172000
LOCATION:England
SUMMARY:Horse Racing:Doncaster - Arab Race - President Of The UAE Cup (UK A
 rabian Derby) (Group 1 PA)
END:VEVENT
END:VCALENDAR
