BEGIN:VCALENDAR
VERSION:2.0
PRODID:-//horsealert.local//NONSGML kigkonsult.se iCalcreator 2.10.5//
CALSCALE:GREGORIAN
X-WR-TIMEZONE:Europe/Dublin
BEGIN:VTIMEZONE
TZID:Etc/GMT-1
BEGIN:STANDARD
DTSTART:20010101T000000
TZOFFSETFROM:+0100
TZOFFSETTO:+0100
TZNAME:GMT +01:00
END:STANDARD
END:VTIMEZONE
BEGIN:VEVENT
UID:20260421T184536CEST-0300400O1A@horsealert.local
DTSTAMP:20260421T160436Z
CATEGORIES:Horse Alerts
DESCRIPTION:LG Pharmacy Ltd Lucky Gallop EBF Maiden Stakes (Plus 10)
DTSTART:20170916T153000
LOCATION:Scotland
SUMMARY:Horse Racing:LG Pharmacy Ltd Lucky Gallop EBF Maiden Stakes (Plus 1
 0)
END:VEVENT
END:VCALENDAR
