BEGIN:VCALENDAR
VERSION:2.0
PRODID:-//horsealert.local//NONSGML kigkonsult.se iCalcreator 2.10.5//
CALSCALE:GREGORIAN
X-WR-TIMEZONE:Europe/Dublin
BEGIN:VTIMEZONE
TZID:Etc/GMT-1
BEGIN:STANDARD
DTSTART:20010101T000000
TZOFFSETFROM:+0100
TZOFFSETTO:+0100
TZNAME:GMT +01:00
END:STANDARD
END:VTIMEZONE
BEGIN:VEVENT
UID:20260421T184508CEST-9106v76M0g@horsealert.local
DTSTAMP:20260421T160408Z
CATEGORIES:Horse Alerts
DESCRIPTION:Pierre Cypres Hurdle
DTSTART:20170914T145500
LOCATION:France
SUMMARY:Horse Racing:Pierre Cypres Hurdle
END:VEVENT
END:VCALENDAR
