BEGIN:VCALENDAR
VERSION:2.0
PRODID:-//horsealert.local//NONSGML kigkonsult.se iCalcreator 2.10.5//
CALSCALE:GREGORIAN
X-WR-TIMEZONE:Europe/Dublin
BEGIN:VTIMEZONE
TZID:Etc/GMT-1
BEGIN:STANDARD
DTSTART:20010101T000000
TZOFFSETFROM:+0100
TZOFFSETTO:+0100
TZNAME:GMT +01:00
END:STANDARD
END:VTIMEZONE
BEGIN:VEVENT
UID:20260421T184237CEST-153261ARVZ@horsealert.local
DTSTAMP:20260421T160437Z
CATEGORIES:Horse Alerts
DESCRIPTION:7bets4free.com 'Hands And Heels' Handicap Hurdle (Conditionals 
 And Amateurs)
DTSTART:20170912T163500
LOCATION:England
SUMMARY:Horse Racing:7bets4free.com 'Hands And Heels' Handicap Hurdle (Cond
 itionals And Amateurs)
END:VEVENT
END:VCALENDAR
