BEGIN:VCALENDAR
VERSION:2.0
PRODID:-//horsealert.local//NONSGML kigkonsult.se iCalcreator 2.10.5//
CALSCALE:GREGORIAN
X-WR-TIMEZONE:Europe/Dublin
BEGIN:VTIMEZONE
TZID:Etc/GMT-1
BEGIN:STANDARD
DTSTART:20010101T000000
TZOFFSETFROM:+0100
TZOFFSETTO:+0100
TZNAME:GMT +01:00
END:STANDARD
END:VTIMEZONE
BEGIN:VEVENT
UID:20260421T184559CEST-7233oPI3vK@horsealert.local
DTSTAMP:20260421T160459Z
CATEGORIES:Horse Alerts
DESCRIPTION:Liam Healy Memorial Lartigue Hurdle (Handicap) (Grade B)
DTSTART:20170912T164000
LOCATION:Eire
SUMMARY:Horse Racing:Liam Healy Memorial Lartigue Hurdle (Handicap) (Grade 
 B)
END:VEVENT
END:VCALENDAR
