BEGIN:VCALENDAR
VERSION:2.0
PRODID:-//horsealert.local//NONSGML kigkonsult.se iCalcreator 2.10.5//
CALSCALE:GREGORIAN
X-WR-TIMEZONE:Europe/Dublin
BEGIN:VTIMEZONE
TZID:Etc/GMT-1
BEGIN:STANDARD
DTSTART:20010101T000000
TZOFFSETFROM:+0100
TZOFFSETTO:+0100
TZNAME:GMT +01:00
END:STANDARD
END:VTIMEZONE
BEGIN:VEVENT
UID:20260421T184215CEST-7977Ku0Oud@horsealert.local
DTSTAMP:20260421T160415Z
CATEGORIES:Horse Alerts
DESCRIPTION:'Become A Racehorse Owner With select-racing-club.co.uk' Juveni
 le Hurdle
DTSTART:20170910T145000
LOCATION:England
SUMMARY:Horse Racing:'Become A Racehorse Owner With select-racing-club.co.u
 k' Juvenile Hurdle
END:VEVENT
END:VCALENDAR
