BEGIN:VCALENDAR
VERSION:2.0
PRODID:-//horsealert.local//NONSGML kigkonsult.se iCalcreator 2.10.5//
CALSCALE:GREGORIAN
X-WR-TIMEZONE:Europe/Dublin
BEGIN:VTIMEZONE
TZID:Etc/GMT-1
BEGIN:STANDARD
DTSTART:20010101T000000
TZOFFSETFROM:+0100
TZOFFSETTO:+0100
TZNAME:GMT +01:00
END:STANDARD
END:VTIMEZONE
BEGIN:VEVENT
UID:20260421T184238CEST-0015LjnaLI@horsealert.local
DTSTAMP:20260421T160438Z
CATEGORIES:Horse Alerts
DESCRIPTION:32Red Sprint Cup Stakes (British Champions Series) (Group 1)
DTSTART:20170909T142500
LOCATION:England
SUMMARY:Horse Racing:32Red Sprint Cup Stakes (British Champions Series) (Gr
 oup 1)
END:VEVENT
END:VCALENDAR
