BEGIN:VCALENDAR
VERSION:2.0
PRODID:-//horsealert.local//NONSGML kigkonsult.se iCalcreator 2.10.5//
CALSCALE:GREGORIAN
X-WR-TIMEZONE:Europe/Dublin
BEGIN:VTIMEZONE
TZID:Etc/GMT-1
BEGIN:STANDARD
DTSTART:20010101T000000
TZOFFSETFROM:+0100
TZOFFSETTO:+0100
TZNAME:GMT +01:00
END:STANDARD
END:VTIMEZONE
BEGIN:VEVENT
UID:20260421T184600CEST-2709Xjbp9F@horsealert.local
DTSTAMP:20260421T160400Z
CATEGORIES:Horse Alerts
DESCRIPTION:Summer Party Pack Discount Group Booking Opportunity Maiden Hur
 dle
DTSTART:20170908T162000
LOCATION:Eire
SUMMARY:Horse Racing:Summer Party Pack Discount Group Booking Opportunity M
 aiden Hurdle
END:VEVENT
END:VCALENDAR
