BEGIN:VCALENDAR
VERSION:2.0
PRODID:-//horsealert.local//NONSGML kigkonsult.se iCalcreator 2.10.5//
CALSCALE:GREGORIAN
X-WR-TIMEZONE:Europe/Dublin
BEGIN:VTIMEZONE
TZID:Etc/GMT-1
BEGIN:STANDARD
DTSTART:20010101T000000
TZOFFSETFROM:+0100
TZOFFSETTO:+0100
TZNAME:GMT +01:00
END:STANDARD
END:VTIMEZONE
BEGIN:VEVENT
UID:20260421T184043CEST-2848oOLPhj@horsealert.local
DTSTAMP:20260421T160443Z
CATEGORIES:Horse Alerts
DESCRIPTION:Haydock Sprint Betting At 188Bet Maiden Auction Fillies' Stakes
  (Plus 10)
DTSTART:20170906T152000
LOCATION:England
SUMMARY:Horse Racing:Haydock Sprint Betting At 188Bet Maiden Auction Fillie
 s' Stakes (Plus 10)
END:VEVENT
END:VCALENDAR
