BEGIN:VCALENDAR
VERSION:2.0
PRODID:-//horsealert.local//NONSGML kigkonsult.se iCalcreator 2.10.5//
CALSCALE:GREGORIAN
X-WR-TIMEZONE:Europe/Dublin
BEGIN:VTIMEZONE
TZID:Etc/GMT-1
BEGIN:STANDARD
DTSTART:20010101T000000
TZOFFSETFROM:+0100
TZOFFSETTO:+0100
TZNAME:GMT +01:00
END:STANDARD
END:VTIMEZONE
BEGIN:VEVENT
UID:20260421T184601CEST-9110C3a70U@horsealert.local
DTSTAMP:20260421T160401Z
CATEGORIES:Horse Alerts
DESCRIPTION:Gilna's Cottage Inn Maiden
DTSTART:20170905T180500
LOCATION:Eire
SUMMARY:Horse Racing:Gilna's Cottage Inn Maiden
END:VEVENT
END:VCALENDAR
