BEGIN:VCALENDAR
VERSION:2.0
PRODID:-//horsealert.local//NONSGML kigkonsult.se iCalcreator 2.10.5//
CALSCALE:GREGORIAN
X-WR-TIMEZONE:Europe/Dublin
BEGIN:VTIMEZONE
TZID:Etc/GMT-1
BEGIN:STANDARD
DTSTART:20010101T000000
TZOFFSETFROM:+0100
TZOFFSETTO:+0100
TZNAME:GMT +01:00
END:STANDARD
END:VTIMEZONE
BEGIN:VEVENT
UID:20260421T202758CEST-56123VOZKI@horsealert.local
DTSTAMP:20260421T180458Z
CATEGORIES:Horse Alerts
DESCRIPTION:Jennings Used Van Centre Novices' Hurdle
DTSTART:20170831T170000
LOCATION:England
SUMMARY:Horse Racing:Jennings Used Van Centre Novices' Hurdle
END:VEVENT
END:VCALENDAR
