BEGIN:VCALENDAR
VERSION:2.0
PRODID:-//horsealert.local//NONSGML kigkonsult.se iCalcreator 2.10.5//
CALSCALE:GREGORIAN
X-WR-TIMEZONE:Europe/Dublin
BEGIN:VTIMEZONE
TZID:Etc/GMT-1
BEGIN:STANDARD
DTSTART:20010101T000000
TZOFFSETFROM:+0100
TZOFFSETTO:+0100
TZNAME:GMT +01:00
END:STANDARD
END:VTIMEZONE
BEGIN:VEVENT
UID:20260421T203021CEST-3647cRojeF@horsealert.local
DTSTAMP:20260421T180421Z
CATEGORIES:Horse Alerts
DESCRIPTION:Dr. E.F. Logan OBE Memorial & Giltspur Scientific Most Stylish 
 Hat Competition Win A Trip To Athens Handicap Hurdle
DTSTART:20170828T161000
LOCATION:Northern Ireland
SUMMARY:Horse Racing:Dr. E.F. Logan OBE Memorial & Giltspur Scientific Most
  Stylish Hat Competition Win A Trip To Athens Handicap Hurdle
END:VEVENT
END:VCALENDAR
