BEGIN:VCALENDAR
VERSION:2.0
PRODID:-//horsealert.local//NONSGML kigkonsult.se iCalcreator 2.10.5//
CALSCALE:GREGORIAN
X-WR-TIMEZONE:Europe/Dublin
BEGIN:VTIMEZONE
TZID:Etc/GMT-1
BEGIN:STANDARD
DTSTART:20010101T000000
TZOFFSETFROM:+0100
TZOFFSETTO:+0100
TZNAME:GMT +01:00
END:STANDARD
END:VTIMEZONE
BEGIN:VEVENT
UID:20260421T202513CEST-6825EWBUOb@horsealert.local
DTSTAMP:20260421T180413Z
CATEGORIES:Horse Alerts
DESCRIPTION:Hotel Barriere Le Normandy Deauville Handicap - Aw Course
DTSTART:20170827T164500
LOCATION:France
SUMMARY:Horse Racing:Hotel Barriere Le Normandy Deauville Handicap - Aw Cou
 rse
END:VEVENT
END:VCALENDAR
