BEGIN:VCALENDAR
VERSION:2.0
PRODID:-//horsealert.local//NONSGML kigkonsult.se iCalcreator 2.10.5//
CALSCALE:GREGORIAN
X-WR-TIMEZONE:Europe/Dublin
BEGIN:VTIMEZONE
TZID:Etc/GMT-1
BEGIN:STANDARD
DTSTART:20010101T000000
TZOFFSETFROM:+0100
TZOFFSETTO:+0100
TZNAME:GMT +01:00
END:STANDARD
END:VTIMEZONE
BEGIN:VEVENT
UID:20260421T202255CEST-3290vu1HeS@horsealert.local
DTSTAMP:20260421T180455Z
CATEGORIES:Horse Alerts
DESCRIPTION:Grosvenor Sport Prestige Stakes (Fillies' Group 3)
DTSTART:20170826T141000
LOCATION:England
SUMMARY:Horse Racing:Grosvenor Sport Prestige Stakes (Fillies' Group 3)
END:VEVENT
END:VCALENDAR
