BEGIN:VCALENDAR
VERSION:2.0
PRODID:-//horsealert.local//NONSGML kigkonsult.se iCalcreator 2.10.5//
CALSCALE:GREGORIAN
X-WR-TIMEZONE:Europe/Dublin
BEGIN:VTIMEZONE
TZID:Etc/GMT-1
BEGIN:STANDARD
DTSTART:20010101T000000
TZOFFSETFROM:+0100
TZOFFSETTO:+0100
TZNAME:GMT +01:00
END:STANDARD
END:VTIMEZONE
BEGIN:VEVENT
UID:20260421T202318CEST-2189mT7KcN@horsealert.local
DTSTAMP:20260421T180418Z
CATEGORIES:Horse Alerts
DESCRIPTION:Boodles Roodee Challenge Cup Polo September Handicap
DTSTART:20170826T161500
LOCATION:England
SUMMARY:Horse Racing:Boodles Roodee Challenge Cup Polo September Handicap
END:VEVENT
END:VCALENDAR
