BEGIN:VCALENDAR
VERSION:2.0
PRODID:-//horsealert.local//NONSGML kigkonsult.se iCalcreator 2.10.5//
CALSCALE:GREGORIAN
X-WR-TIMEZONE:Europe/Dublin
BEGIN:VTIMEZONE
TZID:Etc/GMT-1
BEGIN:STANDARD
DTSTART:20010101T000000
TZOFFSETFROM:+0100
TZOFFSETTO:+0100
TZNAME:GMT +01:00
END:STANDARD
END:VTIMEZONE
BEGIN:VEVENT
UID:20260421T202943CEST-3687hE89cp@horsealert.local
DTSTAMP:20260421T180443Z
CATEGORIES:Horse Alerts
DESCRIPTION:Butler & Co Equine Accounts Specialists Novices' Handicap Chase
DTSTART:20170824T185000
LOCATION:England
SUMMARY:Horse Racing:Butler & Co Equine Accounts Specialists Novices' Handi
 cap Chase
END:VEVENT
END:VCALENDAR
