BEGIN:VCALENDAR
VERSION:2.0
PRODID:-//horsealert.local//NONSGML kigkonsult.se iCalcreator 2.10.5//
CALSCALE:GREGORIAN
X-WR-TIMEZONE:Europe/Dublin
BEGIN:VTIMEZONE
TZID:Etc/GMT-1
BEGIN:STANDARD
DTSTART:20010101T000000
TZOFFSETFROM:+0100
TZOFFSETTO:+0100
TZNAME:GMT +01:00
END:STANDARD
END:VTIMEZONE
BEGIN:VEVENT
UID:20260421T202320CEST-6755J0kBo8@horsealert.local
DTSTAMP:20260421T180420Z
CATEGORIES:Horse Alerts
DESCRIPTION:British Stallion Studs EBF - racinguk.com/hd Novice Stakes (Plu
 s 10)
DTSTART:20170821T141500
LOCATION:England
SUMMARY:Horse Racing:British Stallion Studs EBF - racinguk.com/hd Novice St
 akes (Plus 10)
END:VEVENT
END:VCALENDAR
