BEGIN:VCALENDAR
VERSION:2.0
PRODID:-//horsealert.local//NONSGML kigkonsult.se iCalcreator 2.10.5//
CALSCALE:GREGORIAN
X-WR-TIMEZONE:Europe/Dublin
BEGIN:VTIMEZONE
TZID:Etc/GMT-1
BEGIN:STANDARD
DTSTART:20010101T000000
TZOFFSETFROM:+0100
TZOFFSETTO:+0100
TZNAME:GMT +01:00
END:STANDARD
END:VTIMEZONE
BEGIN:VEVENT
UID:20260421T202334CEST-0283r3NuaO@horsealert.local
DTSTAMP:20260421T180434Z
CATEGORIES:Horse Alerts
DESCRIPTION:Congratulaions Cath And Nick From 7bets4free.com Mares' Novices
 ' Hurdle
DTSTART:20170820T165000
LOCATION:England
SUMMARY:Horse Racing:Congratulaions Cath And Nick From 7bets4free.com Mares
 ' Novices' Hurdle
END:VEVENT
END:VCALENDAR
