BEGIN:VCALENDAR
VERSION:2.0
PRODID:-//horsealert.local//NONSGML kigkonsult.se iCalcreator 2.10.5//
CALSCALE:GREGORIAN
X-WR-TIMEZONE:Europe/Dublin
BEGIN:VTIMEZONE
TZID:Etc/GMT-1
BEGIN:STANDARD
DTSTART:20010101T000000
TZOFFSETFROM:+0100
TZOFFSETTO:+0100
TZNAME:GMT +01:00
END:STANDARD
END:VTIMEZONE
BEGIN:VEVENT
UID:20260421T202511CEST-7776u2u3Hb@horsealert.local
DTSTAMP:20260421T180411Z
CATEGORIES:Horse Alerts
DESCRIPTION:Etalon Mawatheeq Au Haras Du Thenney Handicap
DTSTART:20170819T170000
LOCATION:France
SUMMARY:Horse Racing:Etalon Mawatheeq Au Haras Du Thenney Handicap
END:VEVENT
END:VCALENDAR
