BEGIN:VCALENDAR
VERSION:2.0
PRODID:-//horsealert.local//NONSGML kigkonsult.se iCalcreator 2.10.5//
CALSCALE:GREGORIAN
X-WR-TIMEZONE:Europe/Dublin
BEGIN:VTIMEZONE
TZID:Etc/GMT-1
BEGIN:STANDARD
DTSTART:20010101T000000
TZOFFSETFROM:+0100
TZOFFSETTO:+0100
TZNAME:GMT +01:00
END:STANDARD
END:VTIMEZONE
BEGIN:VEVENT
UID:20260421T202608CEST-2799VUAo96@horsealert.local
DTSTAMP:20260421T180408Z
CATEGORIES:Horse Alerts
DESCRIPTION:Shadwell Prix De La Nonette Group 2
DTSTART:20170819T145000
LOCATION:France
SUMMARY:Horse Racing:Shadwell Prix De La Nonette Group 2
END:VEVENT
END:VCALENDAR
