BEGIN:VCALENDAR
VERSION:2.0
PRODID:-//horsealert.local//NONSGML kigkonsult.se iCalcreator 2.10.5//
CALSCALE:GREGORIAN
X-WR-TIMEZONE:Europe/Dublin
BEGIN:VTIMEZONE
TZID:Etc/GMT-1
BEGIN:STANDARD
DTSTART:20010101T000000
TZOFFSETFROM:+0100
TZOFFSETTO:+0100
TZNAME:GMT +01:00
END:STANDARD
END:VTIMEZONE
BEGIN:VEVENT
UID:20260421T202454CEST-9233Ig9BO5@horsealert.local
DTSTAMP:20260421T180454Z
CATEGORIES:Horse Alerts
DESCRIPTION:Betfred Proud To Work With Simpson Group EBF Maiden Stakes (Plu
 s 10)
DTSTART:20170819T160500
LOCATION:England
SUMMARY:Horse Racing:Betfred Proud To Work With Simpson Group EBF Maiden St
 akes (Plus 10)
END:VEVENT
END:VCALENDAR
