BEGIN:VCALENDAR
VERSION:2.0
PRODID:-//horsealert.local//NONSGML kigkonsult.se iCalcreator 2.10.5//
CALSCALE:GREGORIAN
X-WR-TIMEZONE:Europe/Dublin
BEGIN:VTIMEZONE
TZID:Etc/GMT-1
BEGIN:STANDARD
DTSTART:20010101T000000
TZOFFSETFROM:+0100
TZOFFSETTO:+0100
TZNAME:GMT +01:00
END:STANDARD
END:VTIMEZONE
BEGIN:VEVENT
UID:20260421T202649CEST-0375w0levJ@horsealert.local
DTSTAMP:20260421T180449Z
CATEGORIES:Horse Alerts
DESCRIPTION:Tom Murphy Car Sales (Mercedes-Benz) Handicap Chase (0-95)
DTSTART:20170818T173500
LOCATION:Eire
SUMMARY:Horse Racing:Tom Murphy Car Sales (Mercedes-Benz) Handicap Chase (0
 -95)
END:VEVENT
END:VCALENDAR
