BEGIN:VCALENDAR
VERSION:2.0
PRODID:-//horsealert.local//NONSGML kigkonsult.se iCalcreator 2.10.5//
CALSCALE:GREGORIAN
X-WR-TIMEZONE:Europe/Dublin
BEGIN:VTIMEZONE
TZID:Etc/GMT-1
BEGIN:STANDARD
DTSTART:20010101T000000
TZOFFSETFROM:+0100
TZOFFSETTO:+0100
TZNAME:GMT +01:00
END:STANDARD
END:VTIMEZONE
BEGIN:VEVENT
UID:20260421T202933CEST-7845lz7vm2@horsealert.local
DTSTAMP:20260421T180433Z
CATEGORIES:Horse Alerts
DESCRIPTION:Ivy Bar Newtownards Handicap Hurdle (80-95)
DTSTART:20170813T151500
LOCATION:Northern Ireland
SUMMARY:Horse Racing:Ivy Bar Newtownards Handicap Hurdle (80-95)
END:VEVENT
END:VCALENDAR
