BEGIN:VCALENDAR
VERSION:2.0
PRODID:-//horsealert.local//NONSGML kigkonsult.se iCalcreator 2.10.5//
CALSCALE:GREGORIAN
X-WR-TIMEZONE:Europe/Dublin
BEGIN:VTIMEZONE
TZID:Etc/GMT-1
BEGIN:STANDARD
DTSTART:20010101T000000
TZOFFSETFROM:+0100
TZOFFSETTO:+0100
TZNAME:GMT +01:00
END:STANDARD
END:VTIMEZONE
BEGIN:VEVENT
UID:20260421T202626CEST-0717T0oNKS@horsealert.local
DTSTAMP:20260421T180426Z
CATEGORIES:Horse Alerts
DESCRIPTION:HH Sheikha Fatima Bint Mubarak Ladies World Championship
DTSTART:20170812T183000
LOCATION:England
SUMMARY:Horse Racing:HH Sheikha Fatima Bint Mubarak Ladies World Championsh
 ip
END:VEVENT
END:VCALENDAR
