BEGIN:VCALENDAR
VERSION:2.0
PRODID:-//horsealert.local//NONSGML kigkonsult.se iCalcreator 2.10.5//
CALSCALE:GREGORIAN
X-WR-TIMEZONE:Europe/Dublin
BEGIN:VTIMEZONE
TZID:Etc/GMT-1
BEGIN:STANDARD
DTSTART:20010101T000000
TZOFFSETFROM:+0100
TZOFFSETTO:+0100
TZNAME:GMT +01:00
END:STANDARD
END:VTIMEZONE
BEGIN:VEVENT
UID:20260421T202642CEST-97316JLhEu@horsealert.local
DTSTAMP:20260421T180442Z
CATEGORIES:Horse Alerts
DESCRIPTION:USPGA Golf At 188Bet Median Auction Maiden Stakes
DTSTART:20170812T171000
LOCATION:England
SUMMARY:Horse Racing:USPGA Golf At 188Bet Median Auction Maiden Stakes
END:VEVENT
END:VCALENDAR
