BEGIN:VCALENDAR
VERSION:2.0
PRODID:-//horsealert.local//NONSGML kigkonsult.se iCalcreator 2.10.5//
CALSCALE:GREGORIAN
X-WR-TIMEZONE:Europe/Dublin
BEGIN:VTIMEZONE
TZID:Etc/GMT-1
BEGIN:STANDARD
DTSTART:20010101T000000
TZOFFSETFROM:+0100
TZOFFSETTO:+0100
TZNAME:GMT +01:00
END:STANDARD
END:VTIMEZONE
BEGIN:VEVENT
UID:20260421T202754CEST-7962uDdzg6@horsealert.local
DTSTAMP:20260421T180454Z
CATEGORIES:Horse Alerts
DESCRIPTION:QTS Women In Engineering Lady Riders' Handicap (Professional an
 d Amateur Lady Riders)
DTSTART:20170812T175000
LOCATION:Scotland
SUMMARY:Horse Racing:QTS Women In Engineering Lady Riders' Handicap (Profes
 sional and Amateur Lady Riders)
END:VEVENT
END:VCALENDAR
