BEGIN:VCALENDAR
VERSION:2.0
PRODID:-//horsealert.local//NONSGML kigkonsult.se iCalcreator 2.10.5//
CALSCALE:GREGORIAN
X-WR-TIMEZONE:Europe/Dublin
BEGIN:VTIMEZONE
TZID:Etc/GMT-1
BEGIN:STANDARD
DTSTART:20010101T000000
TZOFFSETFROM:+0100
TZOFFSETTO:+0100
TZNAME:GMT +01:00
END:STANDARD
END:VTIMEZONE
BEGIN:VEVENT
UID:20260421T202446CEST-4572R4gmrL@horsealert.local
DTSTAMP:20260421T180446Z
CATEGORIES:Horse Alerts
DESCRIPTION:Racing Here Again 14th & 15th October Handicap (45-65)
DTSTART:20170808T203000
LOCATION:Eire
SUMMARY:Horse Racing:Racing Here Again 14th & 15th October Handicap (45-65)
END:VEVENT
END:VCALENDAR
