BEGIN:VCALENDAR
VERSION:2.0
PRODID:-//horsealert.local//NONSGML kigkonsult.se iCalcreator 2.10.5//
CALSCALE:GREGORIAN
X-WR-TIMEZONE:Europe/Dublin
BEGIN:VTIMEZONE
TZID:Etc/GMT-1
BEGIN:STANDARD
DTSTART:20010101T000000
TZOFFSETFROM:+0100
TZOFFSETTO:+0100
TZNAME:GMT +01:00
END:STANDARD
END:VTIMEZONE
BEGIN:VEVENT
UID:20260421T202444CEST-3684haRuZH@horsealert.local
DTSTAMP:20260421T180444Z
CATEGORIES:Horse Alerts
DESCRIPTION:Come Racing Again Tomorrow Mares Handicap Hurdle (80-95)
DTSTART:20170807T160500
LOCATION:Eire
SUMMARY:Horse Racing:Come Racing Again Tomorrow Mares Handicap Hurdle (80-9
 5)
END:VEVENT
END:VCALENDAR
