BEGIN:VCALENDAR
VERSION:2.0
PRODID:-//horsealert.local//NONSGML kigkonsult.se iCalcreator 2.10.5//
CALSCALE:GREGORIAN
X-WR-TIMEZONE:Europe/Dublin
BEGIN:VTIMEZONE
TZID:Etc/GMT-1
BEGIN:STANDARD
DTSTART:20010101T000000
TZOFFSETFROM:+0100
TZOFFSETTO:+0100
TZNAME:GMT +01:00
END:STANDARD
END:VTIMEZONE
BEGIN:VEVENT
UID:20260421T202606CEST-4326cddnoI@horsealert.local
DTSTAMP:20260421T180406Z
CATEGORIES:Horse Alerts
DESCRIPTION:News & Star Amazing Lady Darcie Saffill Handicap (Pro-Am Lady R
 iders)
DTSTART:20170807T200000
LOCATION:England
SUMMARY:Horse Racing:News & Star Amazing Lady Darcie Saffill Handicap (Pro-
 Am Lady Riders)
END:VEVENT
END:VCALENDAR
