BEGIN:VCALENDAR
VERSION:2.0
PRODID:-//horsealert.local//NONSGML kigkonsult.se iCalcreator 2.10.5//
CALSCALE:GREGORIAN
X-WR-TIMEZONE:Europe/Dublin
BEGIN:VTIMEZONE
TZID:Etc/GMT-1
BEGIN:STANDARD
DTSTART:20010101T000000
TZOFFSETFROM:+0100
TZOFFSETTO:+0100
TZNAME:GMT +01:00
END:STANDARD
END:VTIMEZONE
BEGIN:VEVENT
UID:20260421T202645CEST-1341ni3p6C@horsealert.local
DTSTAMP:20260421T180445Z
CATEGORIES:Horse Alerts
DESCRIPTION:Eyes Down With Sunny At costabingo.com Handicap (Pro-Am Lady Ri
 ders)
DTSTART:20170807T190000
LOCATION:England
SUMMARY:Horse Racing:Eyes Down With Sunny At costabingo.com Handicap (Pro-A
 m Lady Riders)
END:VEVENT
END:VCALENDAR
